BEGIN:VCALENDAR
VERSION:2.0
PRODID:-//ChamberMaster//Event Calendar 2.0//EN
METHOD:PUBLISH
X-PUBLISHED-TTL:P3D
REFRESH-INTERVAL:P3D
CALSCALE:GREGORIAN
BEGIN:VEVENT
DTSTART:20260625T040000Z
DTEND:20260624T180000Z
X-MICROSOFT-CDO-ALLDAYEVENT:FALSE
SUMMARY:2026 LADIES LUNCHEON - Celebrating Woman
DESCRIPTION:The Millington Area Chamber of Commerce is excited to host our 2026 Ladies Luncheon\, a special event celebrating the incredible women who contribute to the strength\, leadership\, and spirit of our community.\n\nJoin us for an uplifting afternoon of connection\, inspiration\, and fellowship with fellow business and community leaders. Guests will enjoy a welcoming atmosphere designed to highlight and support the women who make a meaningful impact throughout the Millington area.\n\nAdditional details\, including our featured speaker\, activities\, and participating vendors\, will be announced soon.\n\nWe look forward to bringing the community together for this special celebration.
X-ALT-DESC;FMTTYPE=text/html:<p data-end="644" data-start="433">The <span class="hover:entity-accent entity-underline inline cursor-pointer align-baseline">Millington Area Chamber of Commerce</span> is excited to host our <strong data-end="322" data-start="298">2026 Ladies Luncheon</strong>\, a special event celebrating the incredible women who contribute to the strength\, leadership\, and spirit of our community.</p>\n\n<p data-end="714" data-start="447">Join us for an uplifting afternoon of connection\, inspiration\, and fellowship with fellow business and community leaders. Guests will enjoy a welcoming atmosphere designed to highlight and support the women who make a meaningful impact throughout the Millington area.</p>\n\n<p data-end="830" data-start="716"><strong>Additional details\, including our featured speaker\, activities\, and participating vendors\, will be announced soon.</strong></p>\n\n<p data-end="988" data-start="908">We look forward to bringing the community together for this special celebration.</p>\n
LOCATION:ST. WILLIAM CATHOLIC CHURCH
UID:e.714.4584
SEQUENCE:3
DTSTAMP:20260420T194957Z
URL:https://business.millingtonchamber.com/events/details/2026-ladies-luncheon-celebrating-woman-4584
END:VEVENT

END:VCALENDAR
